BEGIN:VCALENDAR
VERSION:2.0
PRODID:-//CPU RCECC - ECPv6.2.9//NONSGML v1.0//EN
CALSCALE:GREGORIAN
METHOD:PUBLISH
X-WR-CALNAME:CPU RCECC
X-ORIGINAL-URL:http://rcecc.cpu.edu.ph
X-WR-CALDESC:Events for CPU RCECC
REFRESH-INTERVAL;VALUE=DURATION:PT1H
X-Robots-Tag:noindex
X-PUBLISHED-TTL:PT1H
BEGIN:VTIMEZONE
TZID:Asia/Shanghai
BEGIN:STANDARD
TZOFFSETFROM:+0800
TZOFFSETTO:+0800
TZNAME:CST
DTSTART:20190101T000000
END:STANDARD
END:VTIMEZONE
BEGIN:VEVENT
DTSTART;TZID=Asia/Shanghai:20190308T080000
DTEND;TZID=Asia/Shanghai:20190308T170000
DTSTAMP:20260423T225810
CREATED:20190221T033750Z
LAST-MODIFIED:20190304T070751Z
UID:1101-1552032000-1552064400@rcecc.cpu.edu.ph
SUMMARY:Fire Engineering in Architectural Feasibility Seminar
DESCRIPTION:Dear Sir/madam \nI am glad to share with you an upcoming seminar at Central Philippine university in partnership with Hua Zhong Design & Consulting\, Heng Qin Co.\, Ltd.\, Hongkong. The seminar is entitled “Fire Engineering in Architectural Feasibility.” This seminar aims to provide relevant information on advanced concepts and experience in urban facilities\, architecture\, fire safety\, and engineering safety. \nThe resource speaker is Dr. Yan Shu. General Manager of Hua Zhong United Design & Consulting\, Heng Qin Co.\, Ltd.\, Hongkong. this one-day seminar is scheduled on March 9\, 2019 (Friday) at the 4th floor CPU Library\, conference Room 1. Registration fee is P1\,000 inclusive of lunch\, snack\, seminar kits and certificates. Student rate is P600 with the same inclusions. For early reservation\, please feel free to contact CPU Review\, Continuing Education\, and Consultancy Center at telefax No. 329 -0265 or 329 -1971 local 1008\, CP No. 09453214335. You may also email us at rceccsec@cpu.edu.ph. \nThank you very much\, and we look forward to your participation \nregistration link: http://rcecc.cpu.edu.ph/2019/02/26/fire-engineering-prereg-form/
URL:http://rcecc.cpu.edu.ph/event/fire-engineering-in-architectural-feasibility-seminar/
LOCATION:Henry Luce III Library Conference Room\, 4th Floor Henry Luce III Library\, Iloilo City\, Iloilo\, Philippines
CATEGORIES:Seminar
END:VEVENT
END:VCALENDAR