BEGIN:VCALENDAR
VERSION:2.0
PRODID:-//CPU RCECC - ECPv6.2.9//NONSGML v1.0//EN
CALSCALE:GREGORIAN
METHOD:PUBLISH
X-WR-CALNAME:CPU RCECC
X-ORIGINAL-URL:http://rcecc.cpu.edu.ph
X-WR-CALDESC:Events for CPU RCECC
REFRESH-INTERVAL;VALUE=DURATION:PT1H
X-Robots-Tag:noindex
X-PUBLISHED-TTL:PT1H
BEGIN:VTIMEZONE
TZID:UTC
BEGIN:STANDARD
TZOFFSETFROM:+0000
TZOFFSETTO:+0000
TZNAME:UTC
DTSTART:20190101T000000
END:STANDARD
END:VTIMEZONE
BEGIN:VEVENT
DTSTART;TZID=UTC:20190404T080000
DTEND;TZID=UTC:20190404T170000
DTSTAMP:20260423T211843
CREATED:20190326T083709Z
LAST-MODIFIED:20190401T033615Z
UID:1648-1554364800-1554397200@rcecc.cpu.edu.ph
SUMMARY:Trauma Emergency Management
DESCRIPTION:
URL:http://rcecc.cpu.edu.ph/event/trauma-emergency-management/
LOCATION:Audio Visual Room\, Loreto D. Tupaz Hall\, Central Philippine University\, Loreto D. Tupaz Hall\, Iloilo City\, Iloilo\, 5000\, Philippines
CATEGORIES:Seminar
ATTACH;FMTTYPE=image/jpeg:http://rcecc.cpu.edu.ph/wp-content/uploads/2019/03/AnnouncementEdit.jpT_.E.Mg_-2.jpg
ORGANIZER;CN="CPU RCECC":MAILTO:rceccsec@cpu.edu.ph
END:VEVENT
END:VCALENDAR